BEGIN:VCALENDAR
VERSION:2.0
PRODID:-//John Koopman III - ECPv6.15.20//NONSGML v1.0//EN
CALSCALE:GREGORIAN
METHOD:PUBLISH
X-ORIGINAL-URL:https://johnkoopmaniii.com
X-WR-CALDESC:Events for John Koopman III
REFRESH-INTERVAL;VALUE=DURATION:PT1H
X-Robots-Tag:noindex
X-PUBLISHED-TTL:PT1H
BEGIN:VTIMEZONE
TZID:UTC
BEGIN:STANDARD
TZOFFSETFROM:+0000
TZOFFSETTO:+0000
TZNAME:UTC
DTSTART:20150101T000000
END:STANDARD
END:VTIMEZONE
BEGIN:VTIMEZONE
TZID:America/New_York
BEGIN:DAYLIGHT
TZOFFSETFROM:-0500
TZOFFSETTO:-0400
TZNAME:EDT
DTSTART:20150308T070000
END:DAYLIGHT
BEGIN:STANDARD
TZOFFSETFROM:-0400
TZOFFSETTO:-0500
TZNAME:EST
DTSTART:20151101T060000
END:STANDARD
BEGIN:DAYLIGHT
TZOFFSETFROM:-0500
TZOFFSETTO:-0400
TZNAME:EDT
DTSTART:20160313T070000
END:DAYLIGHT
BEGIN:STANDARD
TZOFFSETFROM:-0400
TZOFFSETTO:-0500
TZNAME:EST
DTSTART:20161106T060000
END:STANDARD
BEGIN:DAYLIGHT
TZOFFSETFROM:-0500
TZOFFSETTO:-0400
TZNAME:EDT
DTSTART:20170312T070000
END:DAYLIGHT
BEGIN:STANDARD
TZOFFSETFROM:-0400
TZOFFSETTO:-0500
TZNAME:EST
DTSTART:20171105T060000
END:STANDARD
END:VTIMEZONE
BEGIN:VEVENT
DTSTART;TZID=UTC:20160703T130000
DTEND;TZID=UTC:20160703T150000
DTSTAMP:20260424T185342
CREATED:20170516T180506Z
LAST-MODIFIED:20170525T135717Z
UID:889-1467550800-1467558000@johnkoopmaniii.com
SUMMARY:Minute Man National Historical Park
DESCRIPTION:Presentation to the park as George Washington\, followed by book presentation and signing. \nShare this:\n				Share on X (Opens in new window)\n				X\n			\n				Share on Facebook (Opens in new window)\n				Facebook\n			\n				Share on Pinterest (Opens in new window)\n				Pinterest\n			\n				Share on LinkedIn (Opens in new window)\n				LinkedIn
URL:https://johnkoopmaniii.com/event/minute-man-national-historical-park/
LOCATION:Minute Man National Historical Park\, 174 Liberty Street\, Concord\, MA\, 01742\, United States
END:VEVENT
BEGIN:VEVENT
DTSTART;TZID=UTC:20160611T100000
DTEND;TZID=UTC:20160611T160000
DTSTAMP:20260424T185342
CREATED:20170516T180340Z
LAST-MODIFIED:20170516T180340Z
UID:886-1465639200-1465660800@johnkoopmaniii.com
SUMMARY:Jonathan Trumbull Jr. House
DESCRIPTION:Historical interactions with public to be followed by a book presentation and signing at 3 PM. \nShare this:\n				Share on X (Opens in new window)\n				X\n			\n				Share on Facebook (Opens in new window)\n				Facebook\n			\n				Share on Pinterest (Opens in new window)\n				Pinterest\n			\n				Share on LinkedIn (Opens in new window)\n				LinkedIn
URL:https://johnkoopmaniii.com/event/jonathan-trumbull-jr-house/
LOCATION:Jonathan Trumbull Jr. House\, 780 Trumbull Highway\, Lebanon\, CT\, 06249\, United States
END:VEVENT
BEGIN:VEVENT
DTSTART;TZID=America/New_York:20160318T183000
DTEND;TZID=America/New_York:20160318T203000
DTSTAMP:20260424T185342
CREATED:20170516T180126Z
LAST-MODIFIED:20170525T141335Z
UID:883-1458325800-1458333000@johnkoopmaniii.com
SUMMARY:Pony Club
DESCRIPTION:Talk will be given on 18th century riding and mounted re-enacting of the American Revolution.  Book signing to follow. \nShare this:\n				Share on X (Opens in new window)\n				X\n			\n				Share on Facebook (Opens in new window)\n				Facebook\n			\n				Share on Pinterest (Opens in new window)\n				Pinterest\n			\n				Share on LinkedIn (Opens in new window)\n				LinkedIn
URL:https://johnkoopmaniii.com/event/pony-club/
LOCATION:High Hopes Therapeutic Riding\, 36 Town Woods Rd\, Old Lyme\, CT\, 06371\, United States
END:VEVENT
BEGIN:VEVENT
DTSTART;TZID=America/New_York:20160311T173000
DTEND;TZID=America/New_York:20160311T200000
DTSTAMP:20260424T185342
CREATED:20170516T175947Z
LAST-MODIFIED:20170516T175947Z
UID:881-1457717400-1457726400@johnkoopmaniii.com
SUMMARY:Albany Institute – Birthday Party
DESCRIPTION:First Person presentations as President George Washington. \nShare this:\n				Share on X (Opens in new window)\n				X\n			\n				Share on Facebook (Opens in new window)\n				Facebook\n			\n				Share on Pinterest (Opens in new window)\n				Pinterest\n			\n				Share on LinkedIn (Opens in new window)\n				LinkedIn
URL:https://johnkoopmaniii.com/event/albany-institute-birthday-party/
LOCATION:Albany Insitute\, 125 Washington Avenue\, Albany\, NY\, 12210\, United States
END:VEVENT
BEGIN:VEVENT
DTSTART;TZID=America/New_York:20160226T100000
DTEND;TZID=America/New_York:20160226T160000
DTSTAMP:20260424T185342
CREATED:20170516T175803Z
LAST-MODIFIED:20170516T175803Z
UID:877-1456480800-1456502400@johnkoopmaniii.com
SUMMARY:Albany Institute – Press Conference
DESCRIPTION:There will be a cake cutting ceremony in honor of the anniversary of the Institute.  I will be appearing as president and will do the cake cutting with my sword. \nShare this:\n				Share on X (Opens in new window)\n				X\n			\n				Share on Facebook (Opens in new window)\n				Facebook\n			\n				Share on Pinterest (Opens in new window)\n				Pinterest\n			\n				Share on LinkedIn (Opens in new window)\n				LinkedIn
URL:https://johnkoopmaniii.com/event/albany-institute-press-conference/
LOCATION:Albany Insitute\, 125 Washington Avenue\, Albany\, NY\, 12210\, United States
END:VEVENT
BEGIN:VEVENT
DTSTART;TZID=America/New_York:20160215T060000
DTEND;TZID=America/New_York:20160215T090000
DTSTAMP:20260424T185342
CREATED:20170516T175424Z
LAST-MODIFIED:20170516T175833Z
UID:875-1455516000-1455526800@johnkoopmaniii.com
SUMMARY:Fox News – Fox & Friends - National TV Appearance
DESCRIPTION:Interview as George Washington interpreter on Presidents Day. \nShare this:\n				Share on X (Opens in new window)\n				X\n			\n				Share on Facebook (Opens in new window)\n				Facebook\n			\n				Share on Pinterest (Opens in new window)\n				Pinterest\n			\n				Share on LinkedIn (Opens in new window)\n				LinkedIn
URL:https://johnkoopmaniii.com/event/fox-news-fox-friends/
LOCATION:NY
END:VEVENT
BEGIN:VEVENT
DTSTART;TZID=UTC:20160213T120000
DTEND;TZID=UTC:20160215T160000
DTSTAMP:20260424T185342
CREATED:20170525T135257Z
LAST-MODIFIED:20170525T135257Z
UID:908-1455364800-1455552000@johnkoopmaniii.com
SUMMARY:Washington’s Headquarters Newburgh\, NY
DESCRIPTION:Appearances each afternoon as the General.  Cake cutting ceremony each day at noon.  Continental troops will be drilling each day.  Activities for the children.  I will be doing a book presentation and signing on the 15th. \nShare this:\n				Share on X (Opens in new window)\n				X\n			\n				Share on Facebook (Opens in new window)\n				Facebook\n			\n				Share on Pinterest (Opens in new window)\n				Pinterest\n			\n				Share on LinkedIn (Opens in new window)\n				LinkedIn
URL:https://johnkoopmaniii.com/event/washingtons-headquarters-newburgh-ny-2/
LOCATION:Washington’s Headquarters – Newburgh\, 84 Liberty Street\, Newburgh\, NY\, 12550\, United States
END:VEVENT
BEGIN:VEVENT
DTSTART;TZID=America/New_York:20160213T120000
DTEND;TZID=America/New_York:20160213T160000
DTSTAMP:20260424T185342
CREATED:20170516T175107Z
LAST-MODIFIED:20170516T175305Z
UID:870-1455364800-1455379200@johnkoopmaniii.com
SUMMARY:Washington’s Birthday
DESCRIPTION:Appearances each afternoon as the General.  Cake cutting ceremony each day at noon.  Continental troops will be drilling each day.  Activities for the children.  I will be doing a book presentation and signing on the 15th. \nShare this:\n				Share on X (Opens in new window)\n				X\n			\n				Share on Facebook (Opens in new window)\n				Facebook\n			\n				Share on Pinterest (Opens in new window)\n				Pinterest\n			\n				Share on LinkedIn (Opens in new window)\n				LinkedIn
URL:https://johnkoopmaniii.com/event/washingtons-headquarters-newburgh-ny/
LOCATION:Washington’s Headquarters – Newburgh\, 84 Liberty Street\, Newburgh\, NY\, 12550\, United States
END:VEVENT
END:VCALENDAR